Workbook

Sheet Master
A1: Adventure | B1: Torture | C1: Robber | D1: Swagger | E1: Musket | F1: Jewels | G1: Sextant | H1: Cut-Throat | I1: Mutiny
A2: Eye Patch | B2: Wooden Leg | C2: Compass | D2: Gun | E2: Sail | F2: Gold | G2: Chest | H2: Mast | I2: Rope
A3: Earring | B3: Parrot | C3: Conquest | D3: Swashbuckling | E3: Scaliwag | F3: Loot | G3: Overboard | H3: Look-Out | I3: Quartermaster
A4: Landlubber | B4: Ocean | C4: Fire | D4: Riches | E4: Crow's Nest | F4: Shipmate | G4: Cargo | H4: Ahoy | I4: Boots
A5: Long John Silver | B5: Island | C5: Marauder | D5: Rigging | E5: Villain | F5: Shiver-me-Timbers | G5: Contraband | H5: Anchor | I5: Bunks
A6: Treasure | B6: Smelly | C6: Plunder | D6: Rum | E6: Yo-Ho-Ho | F6: Sword | G6: Scurvy | H6: Sea | I6: X Marks the Spot
A7: Map | B7: Captain | C7: Pirate | D7: Pieces of Eight | E7: Crew | F7: Pistol | G7: Gunpowder | H7: Storm | I7: Scar
A8: The Plank | B8: Silver | C8: Hook | D8: Bandana | E8: Blackbeard | F8: Kidnap | G8: Rats | H8: Jolly Roger | I8: First Mate
A9: Revenge | B9: Unscrupulous | C9: Skull | D9: Pirate Ship | E9: Smelly | F9: Deck | G9: Horizon | H9: Bandit | I9: Barrel
A10: FINISH | B10: FINISH | C10: FINISH | D10: FINISH | E10: FINISH | F10: FINISH | G10: FINISH | H10: FINISH | I10: FINISH

Sheet STATION 1
A1: =Master!F8 -> Kidnap | B1: Go to | C1: =Master!F9 -> Deck
A2: =Master!E2 -> Sail | B2: Go to | C2: =Master!E3 -> Scaliwag
A3: =Master!A5 -> Long John Silver | B3: Go to | C3: =Master!A6 -> Treasure
A4: =Master!I3 -> Quartermaster | B4: Go to | C4: =Master!I4 -> Boots
A5: =Master!D3 -> Swashbuckling | B5: Go to | C5: =Master!D4 -> Riches
A6: =Master!G7 -> Gunpowder | B6: Go to | C6: =Master!G8 -> Rats
A7: =Master!A1 -> Adventure | B7: Go to | C7: =Master!A2 -> Eye Patch
A8: =Master!H5 -> Anchor | B8: Go to | C8: =Master!H6 -> Sea
A9: =Master!F3 -> Loot | B9: Go to | C9: =Master!F4 -> Shipmate
A10: =Master!D7 -> Pieces of Eight | B10: Go to | C10: =Master!D8 -> Bandana
A11: =Master!C4 -> Fire | B11: Go to | C11: =Master!C5 -> Marauder
A12: =Master!B3 -> Parrot | B12: Go to | C12: =Master!B4 -> Ocean
A13: =Master!E7 -> Crew | B13: Go to | C13: =Master!E8 -> Blackbeard

Sheet STATION 2
A1: =Master!F5 -> Shiver-me-Timbers | B1: Go to | C1: =Master!F6 -> Sword
A2: =Master!I6 -> X Marks the Spot | B2: Go to | C2: =Master!I7 -> Scar
A3: =Master!A7 -> Map | B3: Go to | C3: =Master!A8 -> The Plank
A4: =Master!E9 -> Smelly | B4: Go to | C4: =Master!E10 -> FINISH
A5: =Master!C2 -> Compass | B5: Go to | C5: =Master!C3 -> Conquest
A6: =Master!I1 -> Mutiny | B6: Go to | C6: =Master!I2 -> Rope
A7: =Master!D6 -> Rum | B7: Go to | C7: =Master!D7 -> Pieces of Eight
A8: =Master!G4 -> Cargo | B8: Go to | C8: =Master!G5 -> Contraband
A9: =Master!C8 -> Hook | B9: Go to | C9: =Master!C9 -> Skull
A10: =Master!A3 -> Earring | B10: Go to | C10: =Master!A4 -> Landlubber
A11: =Master!B5 -> Island | B11: Go to | C11: =Master!B6 -> Smelly
A12: =Master!H8 -> Jolly Roger | B12: Go to | C12: =Master!H9 -> Bandit
A13: =Master!E1 -> Musket | B13: Go to | C13: =Master!E2 -> Sail

Sheet STATION 3
A1: =Master!G9 -> Horizon | B1: Go to | C1: =Master!G10 -> FINISH
A2: =Master!D2 -> Gun | B2: Go to | C2: =Master!D3 -> Swashbuckling
A3: =Master!I9 -> Barrel | B3: Go to | C3: =Master!I10 -> FINISH
A4: =Master!F6 -> Sword | B4: Go to | C4: =Master!F7 -> Pistol
A5: =Master!B7 -> Captain | B5: Go to | C5: =Master!B8 -> Silver
A6: =Master!H2 -> Mast | B6: Go to | C6: =Master!H3 -> Look-Out
A7: =Master!C6 -> Plunder | B7: Go to | C7: =Master!C7 -> Pirate
A8: =Master!E4 -> Crow's Nest | B8: Go to | C8: =Master!E5 -> Villain
A9: =Master!D9 -> Pirate Ship | B9: Go to | C9: =Master!D10 -> FINISH
A10: =Master!F2 -> Gold | B10: Go to | C10: =Master!F3 -> Loot
A11: =Master!G1 -> Sextant | B11: Go to | C11: =Master!G2 -> Chest
A12: =Master!C1 -> Robber | B12: Go to | C12: =Master!C2 -> Compass
A13: =Master!H6 -> Sea | B13: Go to | C13: =Master!H7 -> Storm

Sheet STATION 4
A1: =Master!G2 -> Chest | B1: Go to | C1: =Master!G3 -> Overboard
A2: =Master!A2 -> Eye Patch | B2: Go to | C2: =Master!A3 -> Earring
A3: =Master!H3 -> Look-Out | B3: Go to | C3: =Master!H4 -> Ahoy
A4: =Master!C5 -> Marauder | B4: Go to | C4: =Master!C6 -> Plunder
A5: =Master!E5 -> Villain | B5: Go to | C5: =Master!E6 -> Yo-Ho-Ho
A6: =Master!I4 -> Boots | B6: Go to | C6: =Master!I5 -> Bunks
A7: =Master!B1 -> Torture | B7: Go to | C7: =Master!B2 -> Wooden Leg
A8: =Master!F9 -> Deck | B8: Go to | C8: =Master!F10 -> FINISH
A9: =Master!B8 -> Silver | B9: Go to | C9: =Master!B9 -> Unscrupulous
A10: =Master!G5 -> Contraband | B10: Go to | C10: =Master!G6 -> Scurvy
A11: =Master!A9 -> Revenge | B11: Go to | C11: =Master!A10 -> FINISH
A12: =Master!D4 -> Riches | B12: Go to | C12: =Master!D5 -> Rigging
A13: =Master!I7 -> Scar | B13: Go to | C13: =Master!I8 -> First Mate
A14: =Master!F1 -> Jewels | B14: Go to | C14: =Master!F2 -> Gold

Sheet STATION 5
A1: =Master!E6 -> Yo-Ho-Ho | B1: Go to | C1: =Master!E7 -> Crew
A2: =Master!G3 -> Overboard | B2: Go to | C2: =Master!G4 -> Cargo
A3: =Master!B4 -> Ocean | B3: Go to | C3: =Master!B5 -> Island
A4: =Master!I8 -> First Mate | B4: Go to | C4: =Master!I9 -> Barrel
A5: =Master!G8 -> Rats | B5: Go to | C5: =Master!G9 -> Horizon
A6: =Master!D5 -> Rigging | B6: Go to | C6: =Master!D6 -> Rum
A7: =Master!H1 -> Cut-Throat | B7: Go to | C7: =Master!H2 -> Mast
A8: =Master!B6 -> Smelly | B8: Go to | C8: =Master!B7 -> Captain
A9: =Master!I2 -> Rope | B9: Go to | C9: =Master!I3 -> Quartermaster
A10: =Master!A4 -> Landlubber | B10: Go to | C10: =Master!A5 -> Long John Silver
A11: =Master!C7 -> Pirate | B11: Go to | C11: =Master!C8 -> Hook
A12: =Master!B9 -> Unscrupulous | B12: Go to | C12: =Master!B10 -> FINISH
A13: =Master!H9 -> Bandit | B13: Go to | C13: =Master!H10 -> FINISH
A14: =Master!F4 -> Shipmate | B14: Go to | C14: =Master!F5 -> Shiver-me-Timbers

Sheet STATION 6
A1: =Master!C3 -> Conquest | B1: Go to | C1: =Master!C4 -> Fire
A2: =Master!G6 -> Scurvy | B2: Go to | C2: =Master!G7 -> Gunpowder
A3: =Master!E8 -> Blackbeard | B3: Go to | C3: =Master!E9 -> Smelly
A4: =Master!A8 -> The Plank | B4: Go to | C4: =Master!A9 -> Revenge
A5: =Master!F7 -> Pistol | B5: Go to | C5: =Master!F8 -> Kidnap
A6: =Master!D8 -> Bandana | B6: Go to | C6: =Master!D9 -> Pirate Ship
A7: =Master!D1 -> Swagger | B7: Go to | C7: =Master!D2 -> Gun
A8: =Master!I5 -> Bunks | B8: Go to | C8: =Master!I6 -> X Marks the Spot
A9: =Master!C9 -> Skull | B9: Go to | C9: =Master!C10 -> FINISH
A10: =Master!A6 -> Treasure | B10: Go to | C10: =Master!A7 -> Map
A11: =Master!H4 -> Ahoy | B11: Go to | C11: =Master!H5 -> Anchor
A12: =Master!E3 -> Scaliwag | B12: Go to | C12: =Master!E4 -> Crow's Nest
A13: =Master!B2 -> Wooden Leg | B13: Go to | C13: =Master!B3 -> Parrot
A14: =Master!H7 -> Storm | B14: Go to | C14: =Master!H8 -> Jolly Roger
